Package: TimerQuant Version: 1.39.0 Command: /home/biocbuild/bbs-3.22-bioc/R/bin/R CMD INSTALL TimerQuant StartedAt: 2025-05-13 10:56:24 -0400 (Tue, 13 May 2025) EndedAt: 2025-05-13 10:56:28 -0400 (Tue, 13 May 2025) EllapsedTime: 4.5 seconds RetCode: 0 Status: OK