Package: TimerQuant Version: 1.41.0 Command: /home/biocbuild/bbs-3.23-bioc/R/bin/R CMD INSTALL TimerQuant StartedAt: 2025-10-30 10:56:43 -0400 (Thu, 30 Oct 2025) EndedAt: 2025-10-30 10:56:48 -0400 (Thu, 30 Oct 2025) EllapsedTime: 5.1 seconds RetCode: 0 Status: OK