Package: TargetSearchData Version: 1.49.0 Command: /home/biocbuild/bbs-3.23-bioc/R/bin/R CMD build --keep-empty-dirs --no-resave-data TargetSearchData StartedAt: 2025-11-11 11:44:51 -0500 (Tue, 11 Nov 2025) EndedAt: 2025-11-11 11:45:20 -0500 (Tue, 11 Nov 2025) EllapsedTime: 29.4 seconds RetCode: 0 Status: OK PackageFile: TargetSearchData_1.49.0.tar.gz PackageFileSize: 29.86 MiB