Package: TargetScoreData Version: 1.47.0 Command: /home/biocbuild/bbs-3.23-bioc/R/bin/R CMD build --keep-empty-dirs --no-resave-data TargetScoreData StartedAt: 2025-10-30 11:39:54 -0400 (Thu, 30 Oct 2025) EndedAt: 2025-10-30 11:40:29 -0400 (Thu, 30 Oct 2025) EllapsedTime: 35.0 seconds RetCode: 0 Status: OK PackageFile: TargetScoreData_1.47.0.tar.gz PackageFileSize: 206.2 MiB