Package: TabulaMurisData Version: 1.27.0 Command: /home/biocbuild/bbs-3.22-bioc/R/bin/R CMD build --keep-empty-dirs --no-resave-data TabulaMurisData StartedAt: 2025-10-23 11:43:17 -0400 (Thu, 23 Oct 2025) EndedAt: 2025-10-23 11:44:08 -0400 (Thu, 23 Oct 2025) EllapsedTime: 50.5 seconds RetCode: 0 Status: OK PackageFile: TabulaMurisData_1.27.0.tar.gz PackageFileSize: 220 KiB