Package: TENxBUSData Version: 1.23.0 Command: /home/biocbuild/bbs-3.22-bioc/R/bin/R CMD INSTALL TENxBUSData StartedAt: 2025-10-02 10:57:02 -0400 (Thu, 02 Oct 2025) EndedAt: 2025-10-02 10:57:16 -0400 (Thu, 02 Oct 2025) EllapsedTime: 13.3 seconds RetCode: 0 Status: OK