Package: TCGAMethylation450k Version: 1.45.0 Command: /home/biocbuild/bbs-3.22-bioc/R/bin/R CMD build --keep-empty-dirs --no-resave-data TCGAMethylation450k StartedAt: 2025-10-02 11:45:00 -0400 (Thu, 02 Oct 2025) EndedAt: 2025-10-02 11:45:19 -0400 (Thu, 02 Oct 2025) EllapsedTime: 19.2 seconds RetCode: 0 Status: OK PackageFile: TCGAMethylation450k_1.45.0.tar.gz PackageFileSize: 81.02 MiB