Package: SubcellularSpatialData Version: 1.7.0 Command: /home/biocbuild/bbs-3.23-bioc/R/bin/R CMD INSTALL SubcellularSpatialData StartedAt: 2025-10-30 11:02:05 -0400 (Thu, 30 Oct 2025) EndedAt: 2025-10-30 11:02:07 -0400 (Thu, 30 Oct 2025) EllapsedTime: 2.0 seconds RetCode: 0 Status: OK