Package: SubcellularSpatialData Version: 1.7.0 Command: /home/biocbuild/bbs-3.23-bioc/R/bin/R CMD build --keep-empty-dirs --no-resave-data SubcellularSpatialData StartedAt: 2025-10-30 11:39:27 -0400 (Thu, 30 Oct 2025) EndedAt: 2025-10-30 11:40:34 -0400 (Thu, 30 Oct 2025) EllapsedTime: 67.3 seconds RetCode: 0 Status: OK PackageFile: SubcellularSpatialData_1.7.0.tar.gz PackageFileSize: 2.311 MiB