Package: SpikeInSubset Version: 1.51.0 Command: /home/biocbuild/bbs-3.23-bioc/R/bin/R CMD INSTALL SpikeInSubset StartedAt: 2025-10-30 10:56:26 -0400 (Thu, 30 Oct 2025) EndedAt: 2025-10-30 10:56:31 -0400 (Thu, 30 Oct 2025) EllapsedTime: 5.1 seconds RetCode: 0 Status: OK