Package: SpikeInSubset
Version: 1.49.0
Maintainer: Robert D Shear
MaintainerEmail: rshear at ds.dfci.harvard.edu
git_url: https://git.bioconductor.org/packages/SpikeInSubset
git_branch: devel
git_last_commit: 428d350
git_last_commit_date: 2025-04-15 09:14:30 -0400 (Tue, 15 Apr 2025)