Package: SomaticCancerAlterations Version: 1.47.0 Command: /home/biocbuild/bbs-3.23-bioc/R/bin/R CMD INSTALL SomaticCancerAlterations StartedAt: 2025-11-06 10:57:58 -0500 (Thu, 06 Nov 2025) EndedAt: 2025-11-06 10:58:05 -0500 (Thu, 06 Nov 2025) EllapsedTime: 7.4 seconds RetCode: 0 Status: OK