Package: SomaticCancerAlterations Version: 1.47.0 Command: /home/biocbuild/bbs-3.23-bioc/R/bin/R CMD build --keep-empty-dirs --no-resave-data SomaticCancerAlterations StartedAt: 2025-11-06 11:42:55 -0500 (Thu, 06 Nov 2025) EndedAt: 2025-11-06 11:43:22 -0500 (Thu, 06 Nov 2025) EllapsedTime: 26.9 seconds RetCode: 0 Status: OK PackageFile: SomaticCancerAlterations_1.47.0.tar.gz PackageFileSize: 4.442 MiB