Package: SingleMoleculeFootprintingData Version: 1.17.0 Command: /home/biocbuild/bbs-3.22-bioc/R/bin/R CMD build --keep-empty-dirs --no-resave-data SingleMoleculeFootprintingData StartedAt: 2025-10-09 11:42:56 -0400 (Thu, 09 Oct 2025) EndedAt: 2025-10-09 11:43:17 -0400 (Thu, 09 Oct 2025) EllapsedTime: 21.1 seconds RetCode: 0 Status: OK PackageFile: SingleMoleculeFootprintingData_1.17.0.tar.gz PackageFileSize: 20.07 KiB