Package: SingleCellMultiModal Version: 1.23.0 Command: /home/biocbuild/bbs-3.23-bioc/R/bin/R CMD build --keep-empty-dirs --no-resave-data SingleCellMultiModal StartedAt: 2025-10-30 11:38:42 -0400 (Thu, 30 Oct 2025) EndedAt: 2025-10-30 11:44:44 -0400 (Thu, 30 Oct 2025) EllapsedTime: 361.8 seconds RetCode: 0 Status: OK PackageFile: SingleCellMultiModal_1.23.0.tar.gz PackageFileSize: 2.882 MiB