Package: Single.mTEC.Transcriptomes Version: 1.39.0 Command: /home/biocbuild/bbs-3.23-bioc/R/bin/R CMD INSTALL Single.mTEC.Transcriptomes StartedAt: 2025-10-30 10:55:57 -0400 (Thu, 30 Oct 2025) EndedAt: 2025-10-30 10:56:12 -0400 (Thu, 30 Oct 2025) EllapsedTime: 14.3 seconds RetCode: 0 Status: OK