Package: Single.mTEC.Transcriptomes Version: 1.39.0 Command: /home/biocbuild/bbs-3.23-bioc/R/bin/R CMD build --keep-empty-dirs --no-resave-data Single.mTEC.Transcriptomes StartedAt: 2025-10-30 11:38:42 -0400 (Thu, 30 Oct 2025) EndedAt: 2025-10-30 11:44:45 -0400 (Thu, 30 Oct 2025) EllapsedTime: 363.2 seconds RetCode: 0 Status: OK PackageFile: Single.mTEC.Transcriptomes_1.39.0.tar.gz PackageFileSize: 904.6 MiB