Package: STexampleData Version: 1.19.0 Command: /home/biocbuild/bbs-3.23-bioc/R/bin/R CMD INSTALL STexampleData StartedAt: 2025-10-30 10:58:57 -0400 (Thu, 30 Oct 2025) EndedAt: 2025-10-30 10:59:27 -0400 (Thu, 30 Oct 2025) EllapsedTime: 29.7 seconds RetCode: 0 Status: OK