Package: SFEData Version: 1.11.0 Command: /home/biocbuild/bbs-3.22-bioc/R/bin/R CMD INSTALL SFEData StartedAt: 2025-10-09 10:56:40 -0400 (Thu, 09 Oct 2025) EndedAt: 2025-10-09 10:56:54 -0400 (Thu, 09 Oct 2025) EllapsedTime: 13.7 seconds RetCode: 0 Status: OK