Package: RnBeads.rn5 Version: 1.41.0 Command: /home/biocbuild/bbs-3.22-bioc/R/bin/R CMD INSTALL RnBeads.rn5 StartedAt: 2025-10-14 10:58:33 -0400 (Tue, 14 Oct 2025) EndedAt: 2025-10-14 10:58:42 -0400 (Tue, 14 Oct 2025) EllapsedTime: 8.3 seconds RetCode: 0 Status: OK