Package: RcisTarget.hg19.motifDBs.cisbpOnly.500bp
Version: 1.29.0
Maintainer: Sara Aibar
MaintainerEmail: sara.aibar at kuleuven.vib.be
git_url: https://git.bioconductor.org/packages/RcisTarget.hg19.motifDBs.cisbpOnly.500bp
git_branch: devel
git_last_commit: 6f91abe
git_last_commit_date: 2025-04-15 10:10:53 -0400 (Tue, 15 Apr 2025)