Package: RTCGA.mutations Version: 20151101.41.0 Command: /home/biocbuild/bbs-3.23-bioc/R/bin/R CMD build --keep-empty-dirs --no-resave-data RTCGA.mutations StartedAt: 2025-10-30 11:35:10 -0400 (Thu, 30 Oct 2025) EndedAt: 2025-10-30 11:38:33 -0400 (Thu, 30 Oct 2025) EllapsedTime: 203.2 seconds RetCode: 0 Status: OK PackageFile: RTCGA.mutations_20151101.41.0.tar.gz PackageFileSize: 103.8 MiB