Package: RTCGA.methylation Version: 1.39.0 Command: /home/biocbuild/bbs-3.23-bioc/R/bin/R CMD INSTALL RTCGA.methylation StartedAt: 2025-11-06 11:04:09 -0500 (Thu, 06 Nov 2025) EndedAt: 2025-11-06 11:06:41 -0500 (Thu, 06 Nov 2025) EllapsedTime: 152.2 seconds RetCode: 0 Status: OK