Package: RNAmodR.Data Version: 1.23.0 Command: /home/biocbuild/bbs-3.22-bioc/R/bin/R CMD INSTALL RNAmodR.Data StartedAt: 2025-10-23 11:04:54 -0400 (Thu, 23 Oct 2025) EndedAt: 2025-10-23 11:05:39 -0400 (Thu, 23 Oct 2025) EllapsedTime: 45.2 seconds RetCode: 0 Status: OK