Package: RNAmodR.Data Version: 1.23.0 Command: /home/biocbuild/bbs-3.22-bioc/R/bin/R CMD build --keep-empty-dirs --no-resave-data RNAmodR.Data StartedAt: 2025-10-23 11:37:26 -0400 (Thu, 23 Oct 2025) EndedAt: 2025-10-23 11:38:25 -0400 (Thu, 23 Oct 2025) EllapsedTime: 58.6 seconds RetCode: 0 Status: OK PackageFile: RNAmodR.Data_1.23.0.tar.gz PackageFileSize: 305 KiB