Package: QDNAseq.mm10 Version: 1.41.0 Maintainer: Daoud Sie MaintainerEmail: d.sie at vumc.nl git_url: https://git.bioconductor.org/packages/QDNAseq.mm10 git_branch: devel git_last_commit: 7ea13fa git_last_commit_date: 2025-10-29 09:57:08 -0400 (Wed, 29 Oct 2025)