Package: ProteinGymR Version: 1.3.10 Command: /home/biocbuild/bbs-3.22-bioc/R/bin/R CMD INSTALL ProteinGymR StartedAt: 2025-10-07 10:56:46 -0400 (Tue, 07 Oct 2025) EndedAt: 2025-10-07 10:57:00 -0400 (Tue, 07 Oct 2025) EllapsedTime: 14.1 seconds RetCode: 0 Status: OK