Package: ProteinGymR Version: 1.3.10 Command: /home/biocbuild/bbs-3.22-bioc/R/bin/R CMD build --keep-empty-dirs --no-resave-data ProteinGymR StartedAt: 2025-10-07 11:35:19 -0400 (Tue, 07 Oct 2025) EndedAt: 2025-10-07 11:39:10 -0400 (Tue, 07 Oct 2025) EllapsedTime: 230.8 seconds RetCode: 1 Status: ERROR PackageFile: None PackageFileSize: NA