Package: ProData Version: 1.49.0 Command: /home/biocbuild/bbs-3.23-bioc/R/bin/R CMD INSTALL ProData StartedAt: 2025-11-06 10:56:12 -0500 (Thu, 06 Nov 2025) EndedAt: 2025-11-06 10:56:15 -0500 (Thu, 06 Nov 2025) EllapsedTime: 3.3 seconds RetCode: 0 Status: OK