Package: PathNetData Version: 1.47.0 Command: /home/biocbuild/bbs-3.23-bioc/R/bin/R CMD build --keep-empty-dirs --no-resave-data PathNetData StartedAt: 2025-10-30 11:31:00 -0400 (Thu, 30 Oct 2025) EndedAt: 2025-10-30 11:31:03 -0400 (Thu, 30 Oct 2025) EllapsedTime: 3.0 seconds RetCode: 0 Status: OK PackageFile: PathNetData_1.47.0.tar.gz PackageFileSize: 2.427 MiB