Package: PasillaTranscriptExpr Version: 1.39.0 Command: /home/biocbuild/bbs-3.23-bioc/R/bin/R CMD build --keep-empty-dirs --no-resave-data PasillaTranscriptExpr StartedAt: 2025-11-04 11:35:49 -0500 (Tue, 04 Nov 2025) EndedAt: 2025-11-04 11:36:05 -0500 (Tue, 04 Nov 2025) EllapsedTime: 15.6 seconds RetCode: 0 Status: OK PackageFile: PasillaTranscriptExpr_1.39.0.tar.gz PackageFileSize: 784.1 KiB