Package: PWMEnrich.Hsapiens.background
Version: 4.43.0
Command: /home/biocbuild/bbs-3.22-bioc/R/bin/R CMD INSTALL PWMEnrich.Hsapiens.background
StartedAt: 2025-05-20 10:57:27 -0400 (Tue, 20 May 2025)
EndedAt: 2025-05-20 10:57:34 -0400 (Tue, 20 May 2025)
EllapsedTime: 7.6 seconds
RetCode: 0
Status: OK