Package: ObMiTi Version: 1.17.0 Command: /home/biocbuild/bbs-3.22-bioc/R/bin/R CMD INSTALL ObMiTi StartedAt: 2025-10-09 10:59:17 -0400 (Thu, 09 Oct 2025) EndedAt: 2025-10-09 10:59:47 -0400 (Thu, 09 Oct 2025) EllapsedTime: 30.0 seconds RetCode: 0 Status: OK