Package: ObMiTi Version: 1.17.0 Command: /home/biocbuild/bbs-3.22-bioc/R/bin/R CMD build --keep-empty-dirs --no-resave-data ObMiTi StartedAt: 2025-10-07 11:32:38 -0400 (Tue, 07 Oct 2025) EndedAt: 2025-10-07 11:33:22 -0400 (Tue, 07 Oct 2025) EllapsedTime: 43.3 seconds RetCode: 0 Status: OK PackageFile: ObMiTi_1.17.0.tar.gz PackageFileSize: 46.73 KiB