Package: NanoporeRNASeq Version: 1.19.0 Command: /home/biocbuild/bbs-3.22-bioc/R/bin/R CMD INSTALL NanoporeRNASeq StartedAt: 2025-05-22 10:56:57 -0400 (Thu, 22 May 2025) EndedAt: 2025-05-22 10:57:07 -0400 (Thu, 22 May 2025) EllapsedTime: 9.9 seconds RetCode: 0 Status: OK