Package: NanoporeRNASeq Version: 1.19.0 Command: /home/biocbuild/bbs-3.22-bioc/R/bin/R CMD check --install=check:NanoporeRNASeq.install-out.txt --library=/home/biocbuild/bbs-3.22-bioc/R/site-library --timings NanoporeRNASeq_1.19.0.tar.gz StartedAt: 2025-05-01 12:29:34 -0400 (Thu, 01 May 2025) EndedAt: 2025-05-01 12:32:08 -0400 (Thu, 01 May 2025) EllapsedTime: 154.6 seconds RetCode: 0 Status: OK CheckDir: NanoporeRNASeq.Rcheck Warnings: 0