Package: NanoporeRNASeq Version: 1.19.0 Command: /home/biocbuild/bbs-3.22-bioc/R/bin/R CMD build --keep-empty-dirs --no-resave-data NanoporeRNASeq StartedAt: 2025-05-01 11:32:36 -0400 (Thu, 01 May 2025) EndedAt: 2025-05-01 11:34:38 -0400 (Thu, 01 May 2025) EllapsedTime: 122.7 seconds RetCode: 0 Status: OK PackageFile: NanoporeRNASeq_1.19.0.tar.gz PackageFileSize: 232.7 KiB