Package: MicrobiomeBenchmarkData
Version: 1.11.0
Command: /home/biocbuild/bbs-3.22-bioc/R/bin/R CMD check --install=check:MicrobiomeBenchmarkData.install-out.txt --library=/home/biocbuild/bbs-3.22-bioc/R/site-library --timings MicrobiomeBenchmarkData_1.11.0.tar.gz
StartedAt: 2025-07-17 12:41:54 -0400 (Thu, 17 Jul 2025)
EndedAt: 2025-07-17 12:47:01 -0400 (Thu, 17 Jul 2025)
EllapsedTime: 307.5 seconds
RetCode: 0
Status: OK
CheckDir: MicrobiomeBenchmarkData.Rcheck
Warnings: 0