Package: MethylSeqData Version: 1.19.0 Command: /home/biocbuild/bbs-3.22-bioc/R/bin/R CMD INSTALL MethylSeqData StartedAt: 2025-09-30 11:01:02 -0400 (Tue, 30 Sep 2025) EndedAt: 2025-09-30 11:01:36 -0400 (Tue, 30 Sep 2025) EllapsedTime: 33.7 seconds RetCode: 0 Status: OK