Package: MUGAExampleData
Version: 1.29.0
Command: /home/biocbuild/bbs-3.22-bioc/R/bin/R CMD check --install=check:MUGAExampleData.install-out.txt --library=/home/biocbuild/bbs-3.22-bioc/R/site-library --timings MUGAExampleData_1.29.0.tar.gz
StartedAt: 2025-07-08 12:43:40 -0400 (Tue, 08 Jul 2025)
EndedAt: 2025-07-08 12:44:18 -0400 (Tue, 08 Jul 2025)
EllapsedTime: 38.5 seconds
RetCode: 0
Status: OK
CheckDir: MUGAExampleData.Rcheck
Warnings: 0