Package: MUGAExampleData Version: 1.31.0 Command: /home/biocbuild/bbs-3.23-bioc/R/bin/R CMD INSTALL MUGAExampleData StartedAt: 2025-10-30 10:55:58 -0400 (Thu, 30 Oct 2025) EndedAt: 2025-10-30 10:56:02 -0400 (Thu, 30 Oct 2025) EllapsedTime: 3.2 seconds RetCode: 0 Status: OK