Package: MSMB
Version: 1.27.0
Maintainer: Wolfgang Huber
MaintainerEmail: wolfgang.huber at embl.org
git_url: https://git.bioconductor.org/packages/MSMB
git_branch: devel
git_last_commit: 0b08090
git_last_commit_date: 2025-04-15 10:11:44 -0400 (Tue, 15 Apr 2025)