Package: MMDiffBamSubset
Version: 1.45.0
Command: /home/biocbuild/bbs-3.22-bioc/R/bin/R CMD check --install=check:MMDiffBamSubset.install-out.txt --library=/home/biocbuild/bbs-3.22-bioc/R/site-library --timings MMDiffBamSubset_1.45.0.tar.gz
StartedAt: 2025-07-15 12:40:06 -0400 (Tue, 15 Jul 2025)
EndedAt: 2025-07-15 12:40:40 -0400 (Tue, 15 Jul 2025)
EllapsedTime: 34.0 seconds
RetCode: 0
Status: OK
CheckDir: MMDiffBamSubset.Rcheck
Warnings: 0