Package: MMDiffBamSubset Version: 1.47.0 Command: /home/biocbuild/bbs-3.23-bioc/R/bin/R CMD build --keep-empty-dirs --no-resave-data MMDiffBamSubset StartedAt: 2025-10-30 11:27:51 -0400 (Thu, 30 Oct 2025) EndedAt: 2025-10-30 11:28:29 -0400 (Thu, 30 Oct 2025) EllapsedTime: 38.6 seconds RetCode: 0 Status: OK PackageFile: MMDiffBamSubset_1.47.0.tar.gz PackageFileSize: 632.3 MiB