Package: M3DExampleData Version: 1.37.0 Command: /home/biocbuild/bbs-3.23-bioc/R/bin/R CMD INSTALL M3DExampleData StartedAt: 2025-10-30 10:55:46 -0400 (Thu, 30 Oct 2025) EndedAt: 2025-10-30 10:55:47 -0400 (Thu, 30 Oct 2025) EllapsedTime: 1.8 seconds RetCode: 0 Status: OK