Package: LungCancerACvsSCCGEO Version: 1.47.0 Command: /home/biocbuild/bbs-3.23-bioc/R/bin/R CMD INSTALL LungCancerACvsSCCGEO StartedAt: 2025-11-13 10:55:54 -0500 (Thu, 13 Nov 2025) EndedAt: 2025-11-13 10:56:01 -0500 (Thu, 13 Nov 2025) EllapsedTime: 6.7 seconds RetCode: 0 Status: OK