Package: LungCancerACvsSCCGEO Version: 1.47.0 Command: /home/biocbuild/bbs-3.23-bioc/R/bin/R CMD build --keep-empty-dirs --no-resave-data LungCancerACvsSCCGEO StartedAt: 2025-11-13 11:27:49 -0500 (Thu, 13 Nov 2025) EndedAt: 2025-11-13 11:31:18 -0500 (Thu, 13 Nov 2025) EllapsedTime: 209.0 seconds RetCode: 0 Status: OK PackageFile: LungCancerACvsSCCGEO_1.47.0.tar.gz PackageFileSize: 138.6 MiB