Package: KEGGdzPathwaysGEO Version: 1.47.0 Command: /home/biocbuild/bbs-3.22-bioc/R/bin/R CMD INSTALL KEGGdzPathwaysGEO StartedAt: 2025-10-23 10:56:02 -0400 (Thu, 23 Oct 2025) EndedAt: 2025-10-23 10:56:04 -0400 (Thu, 23 Oct 2025) EllapsedTime: 1.4 seconds RetCode: 0 Status: OK