Package: KEGGdzPathwaysGEO Version: 1.47.0 Command: /home/biocbuild/bbs-3.22-bioc/R/bin/R CMD build --keep-empty-dirs --no-resave-data KEGGdzPathwaysGEO StartedAt: 2025-10-23 11:25:21 -0400 (Thu, 23 Oct 2025) EndedAt: 2025-10-23 11:25:39 -0400 (Thu, 23 Oct 2025) EllapsedTime: 18.4 seconds RetCode: 0 Status: OK PackageFile: KEGGdzPathwaysGEO_1.47.0.tar.gz PackageFileSize: 300.1 MiB