Package: JohnsonKinaseData Version: 1.5.0 Command: /home/biocbuild/bbs-3.22-bioc/R/bin/R CMD INSTALL JohnsonKinaseData StartedAt: 2025-10-09 10:57:04 -0400 (Thu, 09 Oct 2025) EndedAt: 2025-10-09 10:57:19 -0400 (Thu, 09 Oct 2025) EllapsedTime: 14.1 seconds RetCode: 0 Status: OK